BEGIN:VCALENDAR
VERSION:2.0
PRODID:-//Municipality of Grand Lake - ECPv6.15.14//NONSGML v1.0//EN
CALSCALE:GREGORIAN
METHOD:PUBLISH
X-WR-CALNAME:Municipality of Grand Lake
X-ORIGINAL-URL:https://municipalityofgrandlake.ca
X-WR-CALDESC:Events for Municipality of Grand Lake
REFRESH-INTERVAL;VALUE=DURATION:PT1H
X-Robots-Tag:noindex
X-PUBLISHED-TTL:PT1H
BEGIN:VTIMEZONE
TZID:America/Halifax
BEGIN:DAYLIGHT
TZOFFSETFROM:-0400
TZOFFSETTO:-0300
TZNAME:ADT
DTSTART:20240310T060000
END:DAYLIGHT
BEGIN:STANDARD
TZOFFSETFROM:-0300
TZOFFSETTO:-0400
TZNAME:AST
DTSTART:20241103T050000
END:STANDARD
BEGIN:DAYLIGHT
TZOFFSETFROM:-0400
TZOFFSETTO:-0300
TZNAME:ADT
DTSTART:20250309T060000
END:DAYLIGHT
BEGIN:STANDARD
TZOFFSETFROM:-0300
TZOFFSETTO:-0400
TZNAME:AST
DTSTART:20251102T050000
END:STANDARD
BEGIN:DAYLIGHT
TZOFFSETFROM:-0400
TZOFFSETTO:-0300
TZNAME:ADT
DTSTART:20260308T060000
END:DAYLIGHT
BEGIN:STANDARD
TZOFFSETFROM:-0300
TZOFFSETTO:-0400
TZNAME:AST
DTSTART:20261101T050000
END:STANDARD
END:VTIMEZONE
BEGIN:VEVENT
DTSTART;TZID=America/Halifax:20250201T110000
DTEND;TZID=America/Halifax:20250201T190000
DTSTAMP:20260421T163113
CREATED:20241127T124235Z
LAST-MODIFIED:20241127T124919Z
UID:1240-1738407600-1738436400@municipalityofgrandlake.ca
SUMMARY:Frost & Fire: Winter Bar and Trail Adventures in Grand Lake
DESCRIPTION:Join us for an unforgettable winter adventure on the brand-new snowshoe and fat bike trails at Mountain Bike Minto in the beautiful Municipality of Grand Lake! Whether you’re gliding through the serene snow-covered landscape or exploring the new trails\, there’s something for everyone. After your ride\, cozy up at Tiny Trails’ winter bar\, where you can enjoy live music\, warm up by the fire pits\, and indulge in delicious wood-fired pizza. Don’t forget to sip on our spiced mulled cider as you relax and soak in the festive atmosphere. Embrace the season and create lasting memories with friends and family in this winter wonderland. \n\n\nTo reserve room accommodations on site\, visit www.tinytrails.co. \nMore information can be found on the Facebook event page here: https://www.facebook.com/events/3886178994931787/?rdid=vmNtLSlVSbV0Va3n&share_url=https%3A%2F%2Fwww.facebook.com%2Fshare%2F1557q58bJv%2F# 
URL:https://municipalityofgrandlake.ca/events/frost-fire-winter-bar-and-trail-adventures-in-grand-lake-3/
LOCATION:Tiny Trails\, 164 New England Road\, Minto\, New Brunswick\, Canada
END:VEVENT
BEGIN:VEVENT
DTSTART;TZID=America/Halifax:20250202T110000
DTEND;TZID=America/Halifax:20250202T190000
DTSTAMP:20260421T163113
CREATED:20241127T124314Z
LAST-MODIFIED:20241127T124716Z
UID:1241-1738494000-1738522800@municipalityofgrandlake.ca
SUMMARY:Frost & Fire: Winter Bar and Trail Adventures in Grand Lake
DESCRIPTION:Join us for an unforgettable winter adventure on the brand-new snowshoe and fat bike trails at Mountain Bike Minto in the beautiful Municipality of Grand Lake! Whether you’re gliding through the serene snow-covered landscape or exploring the new trails\, there’s something for everyone. After your ride\, cozy up at Tiny Trails’ winter bar\, where you can enjoy live music\, warm up by the fire pits\, and indulge in delicious wood-fired pizza. Don’t forget to sip on our spiced mulled cider as you relax and soak in the festive atmosphere. Embrace the season and create lasting memories with friends and family in this winter wonderland. \n\n\nTo reserve room accommodations on site\, visit www.tinytrails.co. \nMore information can be found on the Facebook event page here: https://www.facebook.com/events/3886178994931787/?rdid=vmNtLSlVSbV0Va3n&share_url=https%3A%2F%2Fwww.facebook.com%2Fshare%2F1557q58bJv%2F# 
URL:https://municipalityofgrandlake.ca/events/frost-fire-winter-bar-and-trail-adventures-in-grand-lake-4/
LOCATION:Tiny Trails\, 164 New England Road\, Minto\, New Brunswick\, Canada
END:VEVENT
BEGIN:VEVENT
DTSTART;TZID=America/Halifax:20250208T110000
DTEND;TZID=America/Halifax:20250208T190000
DTSTAMP:20260421T163113
CREATED:20241127T124348Z
LAST-MODIFIED:20241127T124623Z
UID:1242-1739012400-1739041200@municipalityofgrandlake.ca
SUMMARY:Frost & Fire: Winter Bar and Trail Adventures in Grand Lake
DESCRIPTION:  \nJoin us for an unforgettable winter adventure on the brand-new snowshoe and fat bike trails at Mountain Bike Minto in the beautiful Municipality of Grand Lake! Whether you’re gliding through the serene snow-covered landscape or exploring the new trails\, there’s something for everyone. After your ride\, cozy up at Tiny Trails’ winter bar\, where you can enjoy live music\, warm up by the fire pits\, and indulge in delicious wood-fired pizza. Don’t forget to sip on our spiced mulled cider as you relax and soak in the festive atmosphere. Embrace the season and create lasting memories with friends and family in this winter wonderland. \n\n\nTo reserve room accommodations on site\, visit www.tinytrails.co. \nMore information can be found on the Facebook event page here: https://www.facebook.com/events/3886178994931787/?rdid=vmNtLSlVSbV0Va3n&share_url=https%3A%2F%2Fwww.facebook.com%2Fshare%2F1557q58bJv%2F# 
URL:https://municipalityofgrandlake.ca/events/frost-fire-winter-bar-and-trail-adventures-in-grand-lake-5/
LOCATION:Tiny Trails\, 164 New England Road\, Minto\, New Brunswick\, Canada
END:VEVENT
BEGIN:VEVENT
DTSTART;TZID=America/Halifax:20250209T110000
DTEND;TZID=America/Halifax:20250209T190000
DTSTAMP:20260421T163113
CREATED:20241127T124427Z
LAST-MODIFIED:20241127T124557Z
UID:1243-1739098800-1739127600@municipalityofgrandlake.ca
SUMMARY:Frost & Fire: Winter Bar and Trail Adventures in Grand Lake
DESCRIPTION:Join us for an unforgettable winter adventure on the brand-new snowshoe and fat bike trails at Mountain Bike Minto in the beautiful Municipality of Grand Lake! Whether you’re gliding through the serene snow-covered landscape or exploring the new trails\, there’s something for everyone. After your ride\, cozy up at Tiny Trails’ winter bar\, where you can enjoy live music\, warm up by the fire pits\, and indulge in delicious wood-fired pizza. Don’t forget to sip on our spiced mulled cider as you relax and soak in the festive atmosphere. Embrace the season and create lasting memories with friends and family in this winter wonderland. \n\n\nTo reserve room accommodations on site\, visit www.tinytrails.co. \nMore information can be found on the Facebook event page here: https://www.facebook.com/events/3886178994931787/?rdid=vmNtLSlVSbV0Va3n&share_url=https%3A%2F%2Fwww.facebook.com%2Fshare%2F1557q58bJv%2F# 
URL:https://municipalityofgrandlake.ca/events/frost-fire-winter-bar-and-trail-adventures-in-grand-lake-6/
LOCATION:Tiny Trails\, 164 New England Road\, Minto\, New Brunswick\, Canada
END:VEVENT
BEGIN:VEVENT
DTSTART;TZID=America/Halifax:20250215T100000
DTEND;TZID=America/Halifax:20250215T130000
DTSTAMP:20260421T163113
CREATED:20250128T154824Z
LAST-MODIFIED:20250128T154824Z
UID:1282-1739613600-1739624400@municipalityofgrandlake.ca
SUMMARY:2025 Family Day Ice Fishing Tournament
DESCRIPTION:Join us for a fun-filled Family Day Ice Fishing Tournament! Bring your family and friends to Grand Lake Key Hole and enjoy a morning of fishing\, delicious hot chocolate\, and treats. \n🎣 Prizes Galore!\nEveryone has a chance to win great prizes\, including the Grand Prize: an ice fishing equipment package (set of 4) valued at $2\,500! \nNo fishing experience? No problem! This event is perfect for anglers of all skill levels. \nDon’t miss this opportunity to make unforgettable memories on the ice. Dress warmly and get ready for a fantastic family outing! \nProudly sponsored by the Municipality of Grand Lake and Irving Woodlands.
URL:https://municipalityofgrandlake.ca/events/2025-family-day-ice-fishing-tournament/
LOCATION:Grand Lake/Key Hole (Route 690)
END:VEVENT
BEGIN:VEVENT
DTSTART;TZID=America/Halifax:20250217T130000
DTEND;TZID=America/Halifax:20250217T150000
DTSTAMP:20260421T163113
CREATED:20250212T130951Z
LAST-MODIFIED:20250212T130951Z
UID:1300-1739797200-1739804400@municipalityofgrandlake.ca
SUMMARY:Community Sliding Party
DESCRIPTION:Join us for a fun-filled afternoon of sledding with family and friends! Bring your own sled and enjoy the winter excitement. This free community event is open to all ages. \nSponsored by the Grand Lake Fire Department and Community Volunteers. Don’t miss out on the fun! 🎿❄️ \n📅 Date: Monday\, February 17th🕐 Time: 1 PM – 3 PM🌨 Storm Date: February 23rd\, 1 PM – 3 PM📍 Location: Green Bridge Sliding Hill\, North Minto
URL:https://municipalityofgrandlake.ca/events/community-sliding-party/
LOCATION:Green Bridge Sliding Hill
END:VEVENT
END:VCALENDAR