BEGIN:VCALENDAR
VERSION:2.0
PRODID:-//Municipality of Grand Lake - ECPv6.15.14//NONSGML v1.0//EN
CALSCALE:GREGORIAN
METHOD:PUBLISH
X-WR-CALNAME:Municipality of Grand Lake
X-ORIGINAL-URL:https://municipalityofgrandlake.ca
X-WR-CALDESC:Events for Municipality of Grand Lake
REFRESH-INTERVAL;VALUE=DURATION:PT1H
X-Robots-Tag:noindex
X-PUBLISHED-TTL:PT1H
BEGIN:VTIMEZONE
TZID:America/Halifax
BEGIN:DAYLIGHT
TZOFFSETFROM:-0400
TZOFFSETTO:-0300
TZNAME:ADT
DTSTART:20250309T060000
END:DAYLIGHT
BEGIN:STANDARD
TZOFFSETFROM:-0300
TZOFFSETTO:-0400
TZNAME:AST
DTSTART:20251102T050000
END:STANDARD
BEGIN:DAYLIGHT
TZOFFSETFROM:-0400
TZOFFSETTO:-0300
TZNAME:ADT
DTSTART:20260308T060000
END:DAYLIGHT
BEGIN:STANDARD
TZOFFSETFROM:-0300
TZOFFSETTO:-0400
TZNAME:AST
DTSTART:20261101T050000
END:STANDARD
BEGIN:DAYLIGHT
TZOFFSETFROM:-0400
TZOFFSETTO:-0300
TZNAME:ADT
DTSTART:20270314T060000
END:DAYLIGHT
BEGIN:STANDARD
TZOFFSETFROM:-0300
TZOFFSETTO:-0400
TZNAME:AST
DTSTART:20271107T050000
END:STANDARD
END:VTIMEZONE
BEGIN:VEVENT
DTSTART;TZID=America/Halifax:20260325T093000
DTEND;TZID=America/Halifax:20260325T120000
DTSTAMP:20260420T211625
CREATED:20260227T154919Z
LAST-MODIFIED:20260227T154919Z
UID:2374-1774431000-1774440000@municipalityofgrandlake.ca
SUMMARY:Line Dancing
DESCRIPTION:📅 Date: Wednesday\, March 25 \, 2026🕘 Time:9:30AM – 12:00PM📍 Location: Minto Seniors Club
URL:https://municipalityofgrandlake.ca/events/line-dancing-24/
LOCATION:Minto Senior’s Hall\, 11 O'Leary Lane\, Minto\, NB\, Canada
END:VEVENT
BEGIN:VEVENT
DTSTART;TZID=America/Halifax:20260325T160000
DTEND;TZID=America/Halifax:20260325T180000
DTSTAMP:20260420T211625
CREATED:20260227T155328Z
LAST-MODIFIED:20260227T155619Z
UID:2378-1774454400-1774461600@municipalityofgrandlake.ca
SUMMARY:Healthy Choices
DESCRIPTION:📅 Date: Wednesday\, March 25 \, 2026🕘 Time:4:00PM – 6:00PM📍 Location: Minto Seniors Club
URL:https://municipalityofgrandlake.ca/events/healthy-choices-19/
LOCATION:Minto Senior’s Hall\, 11 O'Leary Lane\, Minto\, NB\, Canada
END:VEVENT
END:VCALENDAR