BEGIN:VCALENDAR
VERSION:2.0
PRODID:-//Municipality of Grand Lake - ECPv6.15.14//NONSGML v1.0//EN
CALSCALE:GREGORIAN
METHOD:PUBLISH
X-ORIGINAL-URL:https://municipalityofgrandlake.ca
X-WR-CALDESC:Events for Municipality of Grand Lake
REFRESH-INTERVAL;VALUE=DURATION:PT1H
X-Robots-Tag:noindex
X-PUBLISHED-TTL:PT1H
BEGIN:VTIMEZONE
TZID:America/Halifax
BEGIN:DAYLIGHT
TZOFFSETFROM:-0400
TZOFFSETTO:-0300
TZNAME:ADT
DTSTART:20250309T060000
END:DAYLIGHT
BEGIN:STANDARD
TZOFFSETFROM:-0300
TZOFFSETTO:-0400
TZNAME:AST
DTSTART:20251102T050000
END:STANDARD
BEGIN:DAYLIGHT
TZOFFSETFROM:-0400
TZOFFSETTO:-0300
TZNAME:ADT
DTSTART:20260308T060000
END:DAYLIGHT
BEGIN:STANDARD
TZOFFSETFROM:-0300
TZOFFSETTO:-0400
TZNAME:AST
DTSTART:20261101T050000
END:STANDARD
BEGIN:DAYLIGHT
TZOFFSETFROM:-0400
TZOFFSETTO:-0300
TZNAME:ADT
DTSTART:20270314T060000
END:DAYLIGHT
BEGIN:STANDARD
TZOFFSETFROM:-0300
TZOFFSETTO:-0400
TZNAME:AST
DTSTART:20271107T050000
END:STANDARD
END:VTIMEZONE
BEGIN:VEVENT
DTSTART;TZID=America/Halifax:20260324T190000
DTEND;TZID=America/Halifax:20260324T210000
DTSTAMP:20260420T175051
CREATED:20260227T151345Z
LAST-MODIFIED:20260227T151345Z
UID:2363-1774378800-1774386000@municipalityofgrandlake.ca
SUMMARY:Heritage Centre BINGO
DESCRIPTION:📅 Date: Tuesday\, March 24\, 2026🕘 Time:7:00PM – 9:00PM📍 Location: Chipman Heritage Centre
URL:https://municipalityofgrandlake.ca/events/heritage-centre-bingo-4/
LOCATION:Chipman Heritage Centre\, 240 Main Street\, Chipman\, NB\, E4A 2H1\, Canada
END:VEVENT
END:VCALENDAR