BEGIN:VCALENDAR
VERSION:2.0
PRODID:-//Municipality of Grand Lake - ECPv6.15.14//NONSGML v1.0//EN
CALSCALE:GREGORIAN
METHOD:PUBLISH
X-WR-CALNAME:Municipality of Grand Lake
X-ORIGINAL-URL:https://municipalityofgrandlake.ca
X-WR-CALDESC:Events for Municipality of Grand Lake
REFRESH-INTERVAL;VALUE=DURATION:PT1H
X-Robots-Tag:noindex
X-PUBLISHED-TTL:PT1H
BEGIN:VTIMEZONE
TZID:America/Halifax
BEGIN:DAYLIGHT
TZOFFSETFROM:-0400
TZOFFSETTO:-0300
TZNAME:ADT
DTSTART:20240310T060000
END:DAYLIGHT
BEGIN:STANDARD
TZOFFSETFROM:-0300
TZOFFSETTO:-0400
TZNAME:AST
DTSTART:20241103T050000
END:STANDARD
BEGIN:DAYLIGHT
TZOFFSETFROM:-0400
TZOFFSETTO:-0300
TZNAME:ADT
DTSTART:20250309T060000
END:DAYLIGHT
BEGIN:STANDARD
TZOFFSETFROM:-0300
TZOFFSETTO:-0400
TZNAME:AST
DTSTART:20251102T050000
END:STANDARD
BEGIN:DAYLIGHT
TZOFFSETFROM:-0400
TZOFFSETTO:-0300
TZNAME:ADT
DTSTART:20260308T060000
END:DAYLIGHT
BEGIN:STANDARD
TZOFFSETFROM:-0300
TZOFFSETTO:-0400
TZNAME:AST
DTSTART:20261101T050000
END:STANDARD
END:VTIMEZONE
BEGIN:VEVENT
DTSTART;TZID=America/Halifax:20250927T080000
DTEND;TZID=America/Halifax:20250927T170000
DTSTAMP:20260424T173838
CREATED:20250603T130922Z
LAST-MODIFIED:20250603T130922Z
UID:1583-1758960000-1758992400@municipalityofgrandlake.ca
SUMMARY:Bernie Sisk Memorial International Soccer Tournament
DESCRIPTION:Join us for a friendly\, multicultural soccer tournament on Saturday\, September 27th 2025. \nRegister your team/player by July 25th by emailing olga.gudkova@nbmc-cmnb.ca. \n📅 Date: Saturday\, September 27th🕘 Time: 9:00 AM – 5:00 PM📍 Location: Chipman Forest Avenue School💲 Admission: $25.00 per person
URL:https://municipalityofgrandlake.ca/events/bernie-sisk-memorial-international-soccer-tournament/
LOCATION:Chipman Forest Avenue School\, 33 Forest Avenue\, Chipman
END:VEVENT
END:VCALENDAR