BEGIN:VCALENDAR
VERSION:2.0
PRODID:-//Municipality of Grand Lake - ECPv6.15.14//NONSGML v1.0//EN
CALSCALE:GREGORIAN
METHOD:PUBLISH
X-ORIGINAL-URL:https://municipalityofgrandlake.ca
X-WR-CALDESC:Events for Municipality of Grand Lake
REFRESH-INTERVAL;VALUE=DURATION:PT1H
X-Robots-Tag:noindex
X-PUBLISHED-TTL:PT1H
BEGIN:VTIMEZONE
TZID:America/Halifax
BEGIN:DAYLIGHT
TZOFFSETFROM:-0400
TZOFFSETTO:-0300
TZNAME:ADT
DTSTART:20240310T060000
END:DAYLIGHT
BEGIN:STANDARD
TZOFFSETFROM:-0300
TZOFFSETTO:-0400
TZNAME:AST
DTSTART:20241103T050000
END:STANDARD
BEGIN:DAYLIGHT
TZOFFSETFROM:-0400
TZOFFSETTO:-0300
TZNAME:ADT
DTSTART:20250309T060000
END:DAYLIGHT
BEGIN:STANDARD
TZOFFSETFROM:-0300
TZOFFSETTO:-0400
TZNAME:AST
DTSTART:20251102T050000
END:STANDARD
BEGIN:DAYLIGHT
TZOFFSETFROM:-0400
TZOFFSETTO:-0300
TZNAME:ADT
DTSTART:20260308T060000
END:DAYLIGHT
BEGIN:STANDARD
TZOFFSETFROM:-0300
TZOFFSETTO:-0400
TZNAME:AST
DTSTART:20261101T050000
END:STANDARD
END:VTIMEZONE
BEGIN:VEVENT
DTSTART;TZID=America/Halifax:20250706T110000
DTEND;TZID=America/Halifax:20250706T130000
DTSTAMP:20260419T225936
CREATED:20250626T141856Z
LAST-MODIFIED:20250626T141939Z
UID:1709-1751799600-1751806800@municipalityofgrandlake.ca
SUMMARY:3rd Annual Garden Tour BBQ
DESCRIPTION:Join us in showing our appreciation for the team while we show off what we’ve accomplished so far! We also want to say thank you to the community for the support received this year. Tour through the garden\, browse pictures from the past\, and connect with members of our community!\n\n NEW THIS YEAR \n TOUCH-A-TRUCK – Tour a big rig that transports produce and seafood all across North America\n FACE PAINTING – KaitysCreations won’t just paint your thumb green; Kaity Craig will be offering a variety of garden themed styles for the kiddos and young at heART!\n📅 Date: Sunday\, July 6th🕘 Time: 11:00 AM – 1:00 PM📍 Location: 93 Bridge St\, Chipman – Behind the Building
URL:https://municipalityofgrandlake.ca/events/3rd-annual-garden-tour-bbq/
LOCATION:Chipman Community Care Inc.\, 93 Bridge St\, Chipman\, New Brunswick\, E4A 1R8\, Canada
END:VEVENT
END:VCALENDAR