BEGIN:VCALENDAR
VERSION:2.0
PRODID:-//Municipality of Grand Lake - ECPv6.15.14//NONSGML v1.0//EN
CALSCALE:GREGORIAN
METHOD:PUBLISH
X-WR-CALNAME:Municipality of Grand Lake
X-ORIGINAL-URL:https://municipalityofgrandlake.ca
X-WR-CALDESC:Events for Municipality of Grand Lake
REFRESH-INTERVAL;VALUE=DURATION:PT1H
X-Robots-Tag:noindex
X-PUBLISHED-TTL:PT1H
BEGIN:VTIMEZONE
TZID:America/Halifax
BEGIN:DAYLIGHT
TZOFFSETFROM:-0400
TZOFFSETTO:-0300
TZNAME:ADT
DTSTART:20240310T060000
END:DAYLIGHT
BEGIN:STANDARD
TZOFFSETFROM:-0300
TZOFFSETTO:-0400
TZNAME:AST
DTSTART:20241103T050000
END:STANDARD
BEGIN:DAYLIGHT
TZOFFSETFROM:-0400
TZOFFSETTO:-0300
TZNAME:ADT
DTSTART:20250309T060000
END:DAYLIGHT
BEGIN:STANDARD
TZOFFSETFROM:-0300
TZOFFSETTO:-0400
TZNAME:AST
DTSTART:20251102T050000
END:STANDARD
BEGIN:DAYLIGHT
TZOFFSETFROM:-0400
TZOFFSETTO:-0300
TZNAME:ADT
DTSTART:20260308T060000
END:DAYLIGHT
BEGIN:STANDARD
TZOFFSETFROM:-0300
TZOFFSETTO:-0400
TZNAME:AST
DTSTART:20261101T050000
END:STANDARD
END:VTIMEZONE
BEGIN:VEVENT
DTSTART;TZID=America/Halifax:20250629T120000
DTEND;TZID=America/Halifax:20250629T130000
DTSTAMP:20260419T231133
CREATED:20250612T182511Z
LAST-MODIFIED:20250612T182904Z
UID:1650-1751198400-1751202000@municipalityofgrandlake.ca
SUMMARY:Bike & Trike Decorating Contest
DESCRIPTION:Pre-registration at 11:45 AM. Hosted by Karah McDonald. \n📅 Date: Sunday\, June 29th🕘 Time: 12:00 PM📍 Location: Gilbert Park
URL:https://municipalityofgrandlake.ca/events/bike-trike-decorating-contest/
LOCATION:Gilbert Park\, 52 Park St\, Minto
END:VEVENT
BEGIN:VEVENT
DTSTART;TZID=America/Halifax:20250629T120000
DTEND;TZID=America/Halifax:20250629T180000
DTSTAMP:20260419T231133
CREATED:20250613T140123Z
LAST-MODIFIED:20250613T140123Z
UID:1670-1751198400-1751220000@municipalityofgrandlake.ca
SUMMARY:RNB Sounds
DESCRIPTION:📅 Date: Sunday\, June 29th🕘 Time: 12:00 PM – 6:00 PM📍 Location: Gilbert Park\n💲Cost: Bracelets $15.00
URL:https://municipalityofgrandlake.ca/events/rnb-sounds-2/
LOCATION:Gilbert Park\, 52 Park St\, Minto
END:VEVENT
BEGIN:VEVENT
DTSTART;TZID=America/Halifax:20250629T123000
DTEND;TZID=America/Halifax:20250629T130000
DTSTAMP:20260419T231133
CREATED:20250612T183017Z
LAST-MODIFIED:20250612T183029Z
UID:1651-1751200200-1751202000@municipalityofgrandlake.ca
SUMMARY:Look-Alike Contest
DESCRIPTION:Pre-registration at 11:30AM. Hosted by Rachel Glenn MacFarlane \n📅 Date: Sunday\, June 29th🕘 Time: 12:30 PM📍 Location: Gilbert Park
URL:https://municipalityofgrandlake.ca/events/look-alike-contest/
LOCATION:Gilbert Park\, 52 Park St\, Minto
END:VEVENT
BEGIN:VEVENT
DTSTART;TZID=America/Halifax:20250629T130000
DTEND;TZID=America/Halifax:20250629T133000
DTSTAMP:20260419T231133
CREATED:20250612T183547Z
LAST-MODIFIED:20250612T183547Z
UID:1652-1751202000-1751203800@municipalityofgrandlake.ca
SUMMARY:Hat & Costume Contest
DESCRIPTION:Pre-registration at 11:45 AM. Hosted by Tiffany McNeill. \n📅 Date: Sunday\, June 29th🕘 Time: 1:00 PM📍 Location: Gilbert Park
URL:https://municipalityofgrandlake.ca/events/hat-costume-contest/
LOCATION:Gilbert Park\, 52 Park St\, Minto
END:VEVENT
BEGIN:VEVENT
DTSTART;TZID=America/Halifax:20250629T130000
DTEND;TZID=America/Halifax:20250629T150000
DTSTAMP:20260419T231133
CREATED:20250612T191542Z
LAST-MODIFIED:20250612T191542Z
UID:1653-1751202000-1751209200@municipalityofgrandlake.ca
SUMMARY:Strongman Competition
DESCRIPTION:Pre-register via email: info@fight4fitnhealth.com \n📅 Date: Sunday\, June 29th🕘 Time: 1:00 PM – 3:00 PM📍 Location: Gilbert Park
URL:https://municipalityofgrandlake.ca/events/strongman-competition/
LOCATION:Gilbert Park\, 52 Park St\, Minto
END:VEVENT
BEGIN:VEVENT
DTSTART;TZID=America/Halifax:20250629T150000
DTEND;TZID=America/Halifax:20250629T160000
DTSTAMP:20260419T231133
CREATED:20250613T142648Z
LAST-MODIFIED:20250613T142648Z
UID:1673-1751209200-1751212800@municipalityofgrandlake.ca
SUMMARY:Chicken Chip Bingo
DESCRIPTION:Limited tickets available! Contact Emery Gauthier (506) 292-8416. \n📅 Date: Sunday\, June 29🕘 Time: 3:00 PM📍 Location: Gilbert Park
URL:https://municipalityofgrandlake.ca/events/chicken-chip-bingo/
LOCATION:Gilbert Park\, 52 Park St\, Minto
END:VEVENT
BEGIN:VEVENT
DTSTART;TZID=America/Halifax:20250629T150000
DTEND;TZID=America/Halifax:20250629T170000
DTSTAMP:20260419T231133
CREATED:20250612T191932Z
LAST-MODIFIED:20250612T191932Z
UID:1654-1751209200-1751216400@municipalityofgrandlake.ca
SUMMARY:Parker Family Fun Park & Pump Track Grand Opening
DESCRIPTION:📅 Date: Sunday\, June 29th🕘 Time: 3:00 PM📍 Location: Minto Municipal Building
URL:https://municipalityofgrandlake.ca/events/parker-family-fun-park-pump-track-grand-opening/
LOCATION:Minto Municipal Building\, 420 Pleasant Ave\, Minto\, New Brunswick\, E4B 2T3\, Canada
END:VEVENT
BEGIN:VEVENT
DTSTART;TZID=America/Halifax:20250629T180000
DTEND;TZID=America/Halifax:20250629T190000
DTSTAMP:20260419T231133
CREATED:20250612T192120Z
LAST-MODIFIED:20250612T192120Z
UID:1656-1751220000-1751223600@municipalityofgrandlake.ca
SUMMARY:Little Tykes Racing
DESCRIPTION:Registration at 5:30 PM. Sponsored by Waylon Egers. \n📅 Date: Sunday\, June 29th🕘 Time: 6:00 PM📍 Location: Minto Centennial Arena
URL:https://municipalityofgrandlake.ca/events/little-tykes-racing/
LOCATION:Minto Centennial Arena\, 19 Centennial Drive\, Minto\, NB\, Canada
END:VEVENT
END:VCALENDAR