BEGIN:VCALENDAR
VERSION:2.0
PRODID:-//Municipality of Grand Lake - ECPv6.15.14//NONSGML v1.0//EN
CALSCALE:GREGORIAN
METHOD:PUBLISH
X-WR-CALNAME:Municipality of Grand Lake
X-ORIGINAL-URL:https://municipalityofgrandlake.ca
X-WR-CALDESC:Events for Municipality of Grand Lake
REFRESH-INTERVAL;VALUE=DURATION:PT1H
X-Robots-Tag:noindex
X-PUBLISHED-TTL:PT1H
BEGIN:VTIMEZONE
TZID:America/Halifax
BEGIN:DAYLIGHT
TZOFFSETFROM:-0400
TZOFFSETTO:-0300
TZNAME:ADT
DTSTART:20240310T060000
END:DAYLIGHT
BEGIN:STANDARD
TZOFFSETFROM:-0300
TZOFFSETTO:-0400
TZNAME:AST
DTSTART:20241103T050000
END:STANDARD
BEGIN:DAYLIGHT
TZOFFSETFROM:-0400
TZOFFSETTO:-0300
TZNAME:ADT
DTSTART:20250309T060000
END:DAYLIGHT
BEGIN:STANDARD
TZOFFSETFROM:-0300
TZOFFSETTO:-0400
TZNAME:AST
DTSTART:20251102T050000
END:STANDARD
BEGIN:DAYLIGHT
TZOFFSETFROM:-0400
TZOFFSETTO:-0300
TZNAME:ADT
DTSTART:20260308T060000
END:DAYLIGHT
BEGIN:STANDARD
TZOFFSETFROM:-0300
TZOFFSETTO:-0400
TZNAME:AST
DTSTART:20261101T050000
END:STANDARD
END:VTIMEZONE
BEGIN:VEVENT
DTSTART;TZID=America/Halifax:20250604T080000
DTEND;TZID=America/Halifax:20250604T170000
DTSTAMP:20260419T230958
CREATED:20250505T121118Z
LAST-MODIFIED:20250505T121118Z
UID:1519-1749024000-1749056400@municipalityofgrandlake.ca
SUMMARY:Women's Health Day
DESCRIPTION:We are hosting a Women’s health clinic to honor Women’s Health Day on June 4th at the Chipman Health Centre. Available to all women living in Grand Lake who do not have a primary care physician. 🩺💊👩‍⚕️ \n📅 Date: Wednesday\, June 4th📍 Location: Chipman Health Centre
URL:https://municipalityofgrandlake.ca/events/womens-health-day/
LOCATION:Chipman Health Centre\, 9 Civic Ct\, Chipman\, New Brunswick\, E4A 2H8\, Canada
END:VEVENT
BEGIN:VEVENT
DTSTART;TZID=America/Halifax:20250604T093000
DTEND;TZID=America/Halifax:20250604T120000
DTSTAMP:20260419T230958
CREATED:20250530T174209Z
LAST-MODIFIED:20250530T174209Z
UID:1570-1749029400-1749038400@municipalityofgrandlake.ca
SUMMARY:Line Dancing
DESCRIPTION:Join us every Wednesday from 9:30AM to 12PM for some line dancing! 🕺🎵 \n📅 Date: Wednesday\, June 4th🕘 Time: 9:30AM – 12PM📍 Location: Minto Seniors Citizens Club
URL:https://municipalityofgrandlake.ca/events/line-dancing-5/
LOCATION:Minto Senior’s Hall\, 11 O'Leary Lane\, Minto\, NB\, Canada
END:VEVENT
END:VCALENDAR