BEGIN:VCALENDAR
VERSION:2.0
PRODID:-//Municipality of Grand Lake - ECPv6.15.14//NONSGML v1.0//EN
CALSCALE:GREGORIAN
METHOD:PUBLISH
X-ORIGINAL-URL:https://municipalityofgrandlake.ca
X-WR-CALDESC:Events for Municipality of Grand Lake
REFRESH-INTERVAL;VALUE=DURATION:PT1H
X-Robots-Tag:noindex
X-PUBLISHED-TTL:PT1H
BEGIN:VTIMEZONE
TZID:America/Halifax
BEGIN:DAYLIGHT
TZOFFSETFROM:-0400
TZOFFSETTO:-0300
TZNAME:ADT
DTSTART:20240310T060000
END:DAYLIGHT
BEGIN:STANDARD
TZOFFSETFROM:-0300
TZOFFSETTO:-0400
TZNAME:AST
DTSTART:20241103T050000
END:STANDARD
BEGIN:DAYLIGHT
TZOFFSETFROM:-0400
TZOFFSETTO:-0300
TZNAME:ADT
DTSTART:20250309T060000
END:DAYLIGHT
BEGIN:STANDARD
TZOFFSETFROM:-0300
TZOFFSETTO:-0400
TZNAME:AST
DTSTART:20251102T050000
END:STANDARD
BEGIN:DAYLIGHT
TZOFFSETFROM:-0400
TZOFFSETTO:-0300
TZNAME:ADT
DTSTART:20260308T060000
END:DAYLIGHT
BEGIN:STANDARD
TZOFFSETFROM:-0300
TZOFFSETTO:-0400
TZNAME:AST
DTSTART:20261101T050000
END:STANDARD
END:VTIMEZONE
BEGIN:VEVENT
DTSTART;TZID=America/Halifax:20250422T100000
DTEND;TZID=America/Halifax:20250422T120000
DTSTAMP:20260424T093506
CREATED:20250404T135023Z
LAST-MODIFIED:20250404T135023Z
UID:1434-1745316000-1745323200@municipalityofgrandlake.ca
SUMMARY:Walking Club
DESCRIPTION:Join us every Monday\, Tuesday and Thursday for a walk around the Minto Seniors Club! 👟 \n✨Open to all ages✨ \n📅 Date: Tuesday\, April 22nd🕘 Time: 10AM – Noon📍 Location: Minto Seniors Citizens Club
URL:https://municipalityofgrandlake.ca/events/walking-club-6/
LOCATION:NB
CATEGORIES:Exercise
END:VEVENT
BEGIN:VEVENT
DTSTART;TZID=America/Halifax:20250422T183000
DTEND;TZID=America/Halifax:20250422T193000
DTSTAMP:20260424T093506
CREATED:20250226T130654Z
LAST-MODIFIED:20250226T130654Z
UID:1343-1745346600-1745350200@municipalityofgrandlake.ca
SUMMARY:Prenatal Breastfeeding Class (Online via Zoom)
DESCRIPTION:📅 Dates & Times: \n\nTuesday\, April 22\, 2025\, at 6:30 PM (EN)\n\n📍 Location: Online (Zoom)💡 Language Options: Sessions in French are available upon request. \nExpecting parents are invited to join Horizon Public Health’s Prenatal Breastfeeding Class to learn about breastfeeding techniques\, benefits\, and support strategies. Our expert dietitians will provide valuable insights and answer your questions. \n🔗 Join the session: https://gnb.zoom.us/j/64264037534?pwd=dTFKQ2EwRnpYTUpUQmlNalhPQmM2UT09#success📩 More information or to request a French session: Email Area3PHDietitians@gnb.ca or call 506-323-9593.
URL:https://municipalityofgrandlake.ca/events/prenatal-breastfeeding-class-online-via-zoom-2/
LOCATION:NB
END:VEVENT
END:VCALENDAR