BEGIN:VCALENDAR
VERSION:2.0
PRODID:-//Municipality of Grand Lake - ECPv6.15.14//NONSGML v1.0//EN
CALSCALE:GREGORIAN
METHOD:PUBLISH
X-WR-CALNAME:Municipality of Grand Lake
X-ORIGINAL-URL:https://municipalityofgrandlake.ca
X-WR-CALDESC:Events for Municipality of Grand Lake
REFRESH-INTERVAL;VALUE=DURATION:PT1H
X-Robots-Tag:noindex
X-PUBLISHED-TTL:PT1H
BEGIN:VTIMEZONE
TZID:America/Halifax
BEGIN:DAYLIGHT
TZOFFSETFROM:-0400
TZOFFSETTO:-0300
TZNAME:ADT
DTSTART:20240310T060000
END:DAYLIGHT
BEGIN:STANDARD
TZOFFSETFROM:-0300
TZOFFSETTO:-0400
TZNAME:AST
DTSTART:20241103T050000
END:STANDARD
BEGIN:DAYLIGHT
TZOFFSETFROM:-0400
TZOFFSETTO:-0300
TZNAME:ADT
DTSTART:20250309T060000
END:DAYLIGHT
BEGIN:STANDARD
TZOFFSETFROM:-0300
TZOFFSETTO:-0400
TZNAME:AST
DTSTART:20251102T050000
END:STANDARD
BEGIN:DAYLIGHT
TZOFFSETFROM:-0400
TZOFFSETTO:-0300
TZNAME:ADT
DTSTART:20260308T060000
END:DAYLIGHT
BEGIN:STANDARD
TZOFFSETFROM:-0300
TZOFFSETTO:-0400
TZNAME:AST
DTSTART:20261101T050000
END:STANDARD
END:VTIMEZONE
BEGIN:VEVENT
DTSTART;TZID=America/Halifax:20250411T200000
DTEND;TZID=America/Halifax:20250411T230000
DTSTAMP:20260419T174926
CREATED:20250404T120236Z
LAST-MODIFIED:20250404T122325Z
UID:1420-1744401600-1744412400@municipalityofgrandlake.ca
SUMMARY:Friday Night Dance - Reg & Anna
DESCRIPTION:This week’s Friday night dance is hosted by Reg & Anna! Join us for some old fashion country and rock ‘n roll. \nAdults of all ages welcome! \n📅 Date: Friday\, April 11th🕘 Time: 8PM – 11PM📍 Location: Minto Seniors Citizens Club💲 Entry Fee: $10.00 for members\, $12.00 for non-members
URL:https://municipalityofgrandlake.ca/events/friday-night-dance-reg-anna/
LOCATION:Minto Senior’s Hall\, 11 O'Leary Lane\, Minto\, NB\, Canada
END:VEVENT
END:VCALENDAR