BEGIN:VCALENDAR
VERSION:2.0
PRODID:-//Municipality of Grand Lake - ECPv6.15.14//NONSGML v1.0//EN
CALSCALE:GREGORIAN
METHOD:PUBLISH
X-ORIGINAL-URL:https://municipalityofgrandlake.ca
X-WR-CALDESC:Events for Municipality of Grand Lake
REFRESH-INTERVAL;VALUE=DURATION:PT1H
X-Robots-Tag:noindex
X-PUBLISHED-TTL:PT1H
BEGIN:VTIMEZONE
TZID:America/Halifax
BEGIN:DAYLIGHT
TZOFFSETFROM:-0400
TZOFFSETTO:-0300
TZNAME:ADT
DTSTART:20240310T060000
END:DAYLIGHT
BEGIN:STANDARD
TZOFFSETFROM:-0300
TZOFFSETTO:-0400
TZNAME:AST
DTSTART:20241103T050000
END:STANDARD
BEGIN:DAYLIGHT
TZOFFSETFROM:-0400
TZOFFSETTO:-0300
TZNAME:ADT
DTSTART:20250309T060000
END:DAYLIGHT
BEGIN:STANDARD
TZOFFSETFROM:-0300
TZOFFSETTO:-0400
TZNAME:AST
DTSTART:20251102T050000
END:STANDARD
BEGIN:DAYLIGHT
TZOFFSETFROM:-0400
TZOFFSETTO:-0300
TZNAME:ADT
DTSTART:20260308T060000
END:DAYLIGHT
BEGIN:STANDARD
TZOFFSETFROM:-0300
TZOFFSETTO:-0400
TZNAME:AST
DTSTART:20261101T050000
END:STANDARD
END:VTIMEZONE
BEGIN:VEVENT
DTSTART;TZID=America/Halifax:20250404T100000
DTEND;TZID=America/Halifax:20250404T170000
DTSTAMP:20260423T140347
CREATED:20250325T135838Z
LAST-MODIFIED:20250325T135838Z
UID:1410-1743760800-1743786000@municipalityofgrandlake.ca
SUMMARY:New Beginnings Art Show
DESCRIPTION:Join us for a spring art show featuring the creations of 15 local artists! 🖼️🎨 \nSponsored by the Minto Public Library’s Art in the Library Series. \n📅 Date: March 20th – April 5th🕐 Time: Hosted during regular library hours. 📍 Location: Minto Public Library
URL:https://municipalityofgrandlake.ca/events/new-beginnings-art-show-12/
LOCATION:Minto Public Library\, 420 Pleasant Drive\, Minto\, NB\, Canada
END:VEVENT
BEGIN:VEVENT
DTSTART;TZID=America/Halifax:20250404T200000
DTEND;TZID=America/Halifax:20250404T230000
DTSTAMP:20260423T140347
CREATED:20250404T115920Z
LAST-MODIFIED:20250404T120229Z
UID:1417-1743796800-1743807600@municipalityofgrandlake.ca
SUMMARY:Friday Night Dance - Jed & Moe
DESCRIPTION:This week’s Friday night dance is hosted by Jed & Moe from Saint John! Join us for some old fashion country and rock ‘n roll. \nAdults of all ages welcome! \n📅 Date: Friday\, April 4th🕘 Time: 8PM – 11PM📍 Location: Minto Seniors Citizens Club💲 Entry Fee: $10.00 for members\, $12.00 for non-members
URL:https://municipalityofgrandlake.ca/events/friday-night-dance-jed-moe/
LOCATION:Minto Senior’s Hall\, 11 O'Leary Lane\, Minto\, NB\, Canada
END:VEVENT
END:VCALENDAR