BEGIN:VCALENDAR
VERSION:2.0
PRODID:-//Municipality of Grand Lake - ECPv6.15.14//NONSGML v1.0//EN
CALSCALE:GREGORIAN
METHOD:PUBLISH
X-ORIGINAL-URL:https://municipalityofgrandlake.ca
X-WR-CALDESC:Events for Municipality of Grand Lake
REFRESH-INTERVAL;VALUE=DURATION:PT1H
X-Robots-Tag:noindex
X-PUBLISHED-TTL:PT1H
BEGIN:VTIMEZONE
TZID:America/Halifax
BEGIN:DAYLIGHT
TZOFFSETFROM:-0400
TZOFFSETTO:-0300
TZNAME:ADT
DTSTART:20240310T060000
END:DAYLIGHT
BEGIN:STANDARD
TZOFFSETFROM:-0300
TZOFFSETTO:-0400
TZNAME:AST
DTSTART:20241103T050000
END:STANDARD
BEGIN:DAYLIGHT
TZOFFSETFROM:-0400
TZOFFSETTO:-0300
TZNAME:ADT
DTSTART:20250309T060000
END:DAYLIGHT
BEGIN:STANDARD
TZOFFSETFROM:-0300
TZOFFSETTO:-0400
TZNAME:AST
DTSTART:20251102T050000
END:STANDARD
BEGIN:DAYLIGHT
TZOFFSETFROM:-0400
TZOFFSETTO:-0300
TZNAME:ADT
DTSTART:20260308T060000
END:DAYLIGHT
BEGIN:STANDARD
TZOFFSETFROM:-0300
TZOFFSETTO:-0400
TZNAME:AST
DTSTART:20261101T050000
END:STANDARD
END:VTIMEZONE
BEGIN:VEVENT
DTSTART;TZID=America/Halifax:20250322T100000
DTEND;TZID=America/Halifax:20250322T170000
DTSTAMP:20260419T142329
CREATED:20250325T133452Z
LAST-MODIFIED:20250325T133452Z
UID:1401-1742637600-1742662800@municipalityofgrandlake.ca
SUMMARY:New Beginnings Art Show
DESCRIPTION:Join us for a spring art show featuring the creations of 15 local artists! 🖼️🎨 \nSponsored by the Minto Public Library’s Art in the Library Series. \n📅 Date: March 20th – April 5th🕐 Time: Hosted during regular library hours. 📍 Location: Minto Public Library
URL:https://municipalityofgrandlake.ca/events/new-beginnings-art-show-3/
LOCATION:Minto Public Library\, 420 Pleasant Drive\, Minto\, NB\, Canada
END:VEVENT
END:VCALENDAR