BEGIN:VCALENDAR
VERSION:2.0
PRODID:-//Municipality of Grand Lake - ECPv6.15.14//NONSGML v1.0//EN
CALSCALE:GREGORIAN
METHOD:PUBLISH
X-ORIGINAL-URL:https://municipalityofgrandlake.ca
X-WR-CALDESC:Events for Municipality of Grand Lake
REFRESH-INTERVAL;VALUE=DURATION:PT1H
X-Robots-Tag:noindex
X-PUBLISHED-TTL:PT1H
BEGIN:VTIMEZONE
TZID:America/Halifax
BEGIN:DAYLIGHT
TZOFFSETFROM:-0400
TZOFFSETTO:-0300
TZNAME:ADT
DTSTART:20230312T060000
END:DAYLIGHT
BEGIN:STANDARD
TZOFFSETFROM:-0300
TZOFFSETTO:-0400
TZNAME:AST
DTSTART:20231105T050000
END:STANDARD
BEGIN:DAYLIGHT
TZOFFSETFROM:-0400
TZOFFSETTO:-0300
TZNAME:ADT
DTSTART:20240310T060000
END:DAYLIGHT
BEGIN:STANDARD
TZOFFSETFROM:-0300
TZOFFSETTO:-0400
TZNAME:AST
DTSTART:20241103T050000
END:STANDARD
BEGIN:DAYLIGHT
TZOFFSETFROM:-0400
TZOFFSETTO:-0300
TZNAME:ADT
DTSTART:20250309T060000
END:DAYLIGHT
BEGIN:STANDARD
TZOFFSETFROM:-0300
TZOFFSETTO:-0400
TZNAME:AST
DTSTART:20251102T050000
END:STANDARD
END:VTIMEZONE
BEGIN:VEVENT
DTSTART;TZID=America/Halifax:20240514T090000
DTEND;TZID=America/Halifax:20240514T120000
DTSTAMP:20260424T053029
CREATED:20240501T163356Z
LAST-MODIFIED:20240501T163356Z
UID:931-1715677200-1715688000@municipalityofgrandlake.ca
SUMMARY:Chipman Playgroup
DESCRIPTION:All families with children aged 6 and under are welcome to attend playgroup.
URL:https://municipalityofgrandlake.ca/events/chipman-playgroup-16/
LOCATION:Care’N’Share Family Resource Center\, 341 Main St\, Chipman\, NB\, Canada
END:VEVENT
BEGIN:VEVENT
DTSTART;TZID=America/Halifax:20240514T100000
DTEND;TZID=America/Halifax:20240514T120000
DTSTAMP:20260424T053029
CREATED:20240326T135431Z
LAST-MODIFIED:20240326T135431Z
UID:850-1715680800-1715688000@municipalityofgrandlake.ca
SUMMARY:Minto New Adventures (Baby Group)
DESCRIPTION:Parents/caregivers and their babies under the age of 18 months are invited to play and socialize with other families. Activities\, holiday parties\, crafts and guest speakers are planned for each week with topics such as Infant Development\, Baby Massage\, Dental Care and much more!
URL:https://municipalityofgrandlake.ca/events/minto-new-adventures-baby-group-7/
LOCATION:Minto United Baptist Church\, 124 Pleasant Dr\, Minto\, NB\, Canada
END:VEVENT
END:VCALENDAR