BEGIN:VCALENDAR
VERSION:2.0
PRODID:-//Municipality of Grand Lake - ECPv6.15.14//NONSGML v1.0//EN
CALSCALE:GREGORIAN
METHOD:PUBLISH
X-ORIGINAL-URL:https://municipalityofgrandlake.ca
X-WR-CALDESC:Events for Municipality of Grand Lake
REFRESH-INTERVAL;VALUE=DURATION:PT1H
X-Robots-Tag:noindex
X-PUBLISHED-TTL:PT1H
BEGIN:VTIMEZONE
TZID:America/Halifax
BEGIN:DAYLIGHT
TZOFFSETFROM:-0400
TZOFFSETTO:-0300
TZNAME:ADT
DTSTART:20230312T060000
END:DAYLIGHT
BEGIN:STANDARD
TZOFFSETFROM:-0300
TZOFFSETTO:-0400
TZNAME:AST
DTSTART:20231105T050000
END:STANDARD
BEGIN:DAYLIGHT
TZOFFSETFROM:-0400
TZOFFSETTO:-0300
TZNAME:ADT
DTSTART:20240310T060000
END:DAYLIGHT
BEGIN:STANDARD
TZOFFSETFROM:-0300
TZOFFSETTO:-0400
TZNAME:AST
DTSTART:20241103T050000
END:STANDARD
BEGIN:DAYLIGHT
TZOFFSETFROM:-0400
TZOFFSETTO:-0300
TZNAME:ADT
DTSTART:20250309T060000
END:DAYLIGHT
BEGIN:STANDARD
TZOFFSETFROM:-0300
TZOFFSETTO:-0400
TZNAME:AST
DTSTART:20251102T050000
END:STANDARD
END:VTIMEZONE
BEGIN:VEVENT
DTSTART;TZID=America/Halifax:20240427T090000
DTEND;TZID=America/Halifax:20240427T150000
DTSTAMP:20260421T131140
CREATED:20240326T140223Z
LAST-MODIFIED:20240326T140223Z
UID:856-1714208400-1714230000@municipalityofgrandlake.ca
SUMMARY:Business Builder Workshop
DESCRIPTION:Are you grappling with turning your business idea into a reality? Or perhaps you have a concept waiting to be validated? Look no further! Our Business Builder Bootcamp is the perfect platform to kickstart your entrepreneurial aspirations. \n  \nProgram Highlights \nDate: Friday\, April 26 (4-7 pm)\, Saturday\, April 27 (9 am-3 pm)\, Sunday\, Sept 24 (10 am-1 pm) \nLocation: Nackawic \nEvent: In-person \n  \nFee: $350 +HST (includes all meals\, snacks\, and program materials) \nProgram Value: $1\,500 (subsidized by our partners) \n  \nDuring this intensive program\, you will gain invaluable insights into validating your ideas\, identifying crucial next steps\, and crafting a robust business plan that sets you up for success. \n  \nTo learn more about the program and secure your spot\, please visit the Business Builder Program. You can also register directly here. \n  \nIf you have any questions or need further assistance\, feel free to reach out to Oriana Cordido\, our Business Startup Specialist\, at oriana@myignite.ca.
URL:https://municipalityofgrandlake.ca/events/business-builder-workshop-2/
LOCATION:NB
END:VEVENT
END:VCALENDAR