BEGIN:VCALENDAR
VERSION:2.0
PRODID:-//Municipality of Grand Lake - ECPv6.15.14//NONSGML v1.0//EN
CALSCALE:GREGORIAN
METHOD:PUBLISH
X-WR-CALNAME:Municipality of Grand Lake
X-ORIGINAL-URL:https://municipalityofgrandlake.ca
X-WR-CALDESC:Events for Municipality of Grand Lake
REFRESH-INTERVAL;VALUE=DURATION:PT1H
X-Robots-Tag:noindex
X-PUBLISHED-TTL:PT1H
BEGIN:VTIMEZONE
TZID:America/Halifax
BEGIN:DAYLIGHT
TZOFFSETFROM:-0400
TZOFFSETTO:-0300
TZNAME:ADT
DTSTART:20230312T060000
END:DAYLIGHT
BEGIN:STANDARD
TZOFFSETFROM:-0300
TZOFFSETTO:-0400
TZNAME:AST
DTSTART:20231105T050000
END:STANDARD
BEGIN:DAYLIGHT
TZOFFSETFROM:-0400
TZOFFSETTO:-0300
TZNAME:ADT
DTSTART:20240310T060000
END:DAYLIGHT
BEGIN:STANDARD
TZOFFSETFROM:-0300
TZOFFSETTO:-0400
TZNAME:AST
DTSTART:20241103T050000
END:STANDARD
BEGIN:DAYLIGHT
TZOFFSETFROM:-0400
TZOFFSETTO:-0300
TZNAME:ADT
DTSTART:20250309T060000
END:DAYLIGHT
BEGIN:STANDARD
TZOFFSETFROM:-0300
TZOFFSETTO:-0400
TZNAME:AST
DTSTART:20251102T050000
END:STANDARD
END:VTIMEZONE
BEGIN:VEVENT
DTSTART;TZID=America/Halifax:20240413T080000
DTEND;TZID=America/Halifax:20240413T110000
DTSTAMP:20260425T153551
CREATED:20240321T171547Z
LAST-MODIFIED:20240412T123554Z
UID:819-1712995200-1713006000@municipalityofgrandlake.ca
SUMMARY:Breakfast
DESCRIPTION:Come out and enjoy a breakfast in support of the Municipality of Grand Lake Arena’s Committee
URL:https://municipalityofgrandlake.ca/events/breakfast/
LOCATION:Minto Holy Rosary Hall\, 26 Father Dysart Ln\, Minto\, NB\, Canada
END:VEVENT
BEGIN:VEVENT
DTSTART;TZID=America/Halifax:20240413T100000
DTEND;TZID=America/Halifax:20240413T140000
DTSTAMP:20260425T153551
CREATED:20240412T120827Z
LAST-MODIFIED:20240412T120827Z
UID:909-1713002400-1713016800@municipalityofgrandlake.ca
SUMMARY:Chipman Spring Market
DESCRIPTION:It’s time to shake off those winter blues by perusing items hand-crafted by our many local\, talented vendors.\n\nSoaps\, crafts\, candies\, and more! We’ll be set up in the parking lot of the Chipman Marina and in the Chipman Heritage Centre.\n\nAs an added bonus\, the first 20 customers to come through the doors of the Heritage Center will get a bag with a coupon for a FREE ITEM from one of the participating vendors!
URL:https://municipalityofgrandlake.ca/events/chipman-spring-market/
LOCATION:Chipman Heritage Centre\, 240 Main Street\, Chipman\, NB\, E4A 2H1\, Canada
END:VEVENT
END:VCALENDAR