BEGIN:VCALENDAR
VERSION:2.0
PRODID:-//Municipality of Grand Lake - ECPv6.15.14//NONSGML v1.0//EN
CALSCALE:GREGORIAN
METHOD:PUBLISH
X-ORIGINAL-URL:https://municipalityofgrandlake.ca
X-WR-CALDESC:Events for Municipality of Grand Lake
REFRESH-INTERVAL;VALUE=DURATION:PT1H
X-Robots-Tag:noindex
X-PUBLISHED-TTL:PT1H
BEGIN:VTIMEZONE
TZID:America/Halifax
BEGIN:DAYLIGHT
TZOFFSETFROM:-0400
TZOFFSETTO:-0300
TZNAME:ADT
DTSTART:20230312T060000
END:DAYLIGHT
BEGIN:STANDARD
TZOFFSETFROM:-0300
TZOFFSETTO:-0400
TZNAME:AST
DTSTART:20231105T050000
END:STANDARD
BEGIN:DAYLIGHT
TZOFFSETFROM:-0400
TZOFFSETTO:-0300
TZNAME:ADT
DTSTART:20240310T060000
END:DAYLIGHT
BEGIN:STANDARD
TZOFFSETFROM:-0300
TZOFFSETTO:-0400
TZNAME:AST
DTSTART:20241103T050000
END:STANDARD
BEGIN:DAYLIGHT
TZOFFSETFROM:-0400
TZOFFSETTO:-0300
TZNAME:ADT
DTSTART:20250309T060000
END:DAYLIGHT
BEGIN:STANDARD
TZOFFSETFROM:-0300
TZOFFSETTO:-0400
TZNAME:AST
DTSTART:20251102T050000
END:STANDARD
END:VTIMEZONE
BEGIN:VEVENT
DTSTART;TZID=America/Halifax:20240228T090000
DTEND;TZID=America/Halifax:20240228T100000
DTSTAMP:20260422T021109
CREATED:20240129T130552Z
LAST-MODIFIED:20240129T130743Z
UID:702-1709110800-1709114400@municipalityofgrandlake.ca
SUMMARY:Mind Body Fusion Exercise Class
DESCRIPTION:This is a weekly program by registration or drop in ($8).\nFor registration or further details contact Anne at newhipfit@gmail.com
URL:https://municipalityofgrandlake.ca/events/mind-body-fusion-exercise-class-5/
LOCATION:Chipman Heritage Centre\, 240 Main Street\, Chipman\, NB\, E4A 2H1\, Canada
CATEGORIES:Exercise
ORGANIZER;CN="New Hip Fit":MAILTO:newhipfit@gmail.com
END:VEVENT
BEGIN:VEVENT
DTSTART;TZID=America/Halifax:20240228T101500
DTEND;TZID=America/Halifax:20240228T111500
DTSTAMP:20260422T021109
CREATED:20240129T131216Z
LAST-MODIFIED:20240129T131216Z
UID:707-1709115300-1709118900@municipalityofgrandlake.ca
SUMMARY:50+ Mobility Exercise Class
DESCRIPTION:Workout that includes cardio\, balance/strength and flexibility to increase mobility and/or healing and decrease pain. Register or drop in for $8.\nContact Anne at newhipfit@gmail.com for further details.
URL:https://municipalityofgrandlake.ca/events/50-mobility-exercise-class-5/
LOCATION:Chipman Heritage Centre\, 240 Main Street\, Chipman\, NB\, E4A 2H1\, Canada
CATEGORIES:Exercise
ORGANIZER;CN="New Hip Fit":MAILTO:newhipfit@gmail.com
END:VEVENT
END:VCALENDAR